{"text_format":"1","workbook":"xlsx","n_sheets":8,"sheets":["Finish Times","Fleet 1","Finish Times (2)","Fleet 2","Fleet 3","Fleet 4","Fleet 1 and 2 Combo","Fleet 3 and 4 Combo"],"not_rendered":{"charts":0,"images":0,"macros":1,"external_links":0,"defined_names":6,"comments":5,"pivot_tables":0},"unopened":[],"bounds":{"document_bytes":16777216,"sheet_cells":100000,"rows_first":2000,"rows_last":500,"rows_between":2000,"halvings":0,"cell_chars":16384,"cell_head_chars":4096},"cells_cut":0,"cells_raw":0,"read":"whole","date_system":"1900"}

{"sheet":"Finish Times","index":0,"n_rows":40,"n_cols":8,"rows_kept":40,"cut":false,"hidden":false,"merged":[]}
[]
[]
[]
["MUST",null,"FLEET 1"]
["BE",null,"FLEET 2"]
["IN ALPHA",null,"FLEET 3"]
["ORDER",null,"FLEET 4"]
[null,null,null,null,null,"Finish Time"]
["BOAT NAME","FLEET","BOAT","SAIL #","SKIPPER","MINUTES","SECONDS"]
["Alarming",4,"S-2 9.2",505,"Oginz",47,9]
["Always Something",3,"Hunter 23",1256,"Gobble",44,25]
["Bandit",1,"J/24",2792,"Cliborne",57,9]
["Boogie Board",1,"J/24",1742,"Maloney"]
["Catch 22",1,"J22",826,"Schiable",80,30," "]
["Courageous",2,"Harbor 20",278,"Tunnell"]
["Dark Horse",1,"J/24",1024,"Forqurean",59,11]
["Destiny",2,"Alerion 20",6,"Whitt",69,50]
["Felicite",4,"S-2 27 IB",13,"Johnson",41,19]
["Fenix",2,"San Juan 24",556,"Firing"]
["Fever",3,"Ericson 23",269,"Short"]
["Fools Game",2,"Pearson 26",1183,"Hull"]
[" "," "," "," "," "]
["Gotcha",2,"S-2 6.7",75,"Theis"]
["ie ie bang bang",4,"Hunter 365",8,"Gillespie"]
["King Bills Revenge",3,"San Juan 21",null,"Gillespie"]
["Little Wing",4,"Beneteau 29",485,"DeMestro",41,32]
["Majical",3,"Cal 25",1687,"Witten"]
["Miss Virginia",3,"Hunter 23.5",1309,"Perdue",50,23]
["More Mischief",4,"Beneteau 285",144,"Gearhart"]
["Rascal",1,"J/24",3511,"Phillip",55,37]
["Second Wind",3,"Ericson 23",470,"Schraw",46,4]
["Severence",2,"C&C 25",14755,"Evans"]
["Stoic",2,"Harbor 20",330,"Hemler",67,42]
["StressLess",2,"Harbor 20",212,"Breckenridge",67,45]
["Synergy",2,"Harbor 20",215,"Miekina"]
["Te Aroha",4,"Beneteau 285",285,"Short"]
["Time Warp",1,"J/24",1248,"Sampson"]
["Tundra Swan",3,"Hunter 23",1256," "]
["UDO",1,"VX One",119,"Gietl"]
["Willaway",4,"Columbia 29",222,"Conover"]

{"sheet":"Fleet 1","index":1,"n_rows":29,"n_cols":37,"rows_kept":29,"cut":false,"hidden":false,"merged":[[4,0,4,14],[5,0,5,14],[6,0,6,14],[6,19,6,21],[7,6,7,7],[7,8,7,9],[7,10,7,11]]}
["Control Z to run macro",null,null,null,null,null,null,null,null,null,null,null,null,null,null,null,null,null,null,null,null,null,null,null,"Winner"]
[null,null,null,null,null,null,null,null,null,null,null,null,null,null,null,null,null,null,null,null,null,null,null,null,{"$f":"MIN(N10:N23)","v":51.978193146417446}]
[0,"<-----Minutes after first start"]
[]
["Blackwater Yacht Racing Association - Sign Up Sheet Fleet I (ONE)",null,null,null,null,null,null,null,null,null,null,null,null,null,null,null,null,null,null,null,null,null,null,null,null,"Test"]
["Date: Oct. 8, 2016      2016 Fall Series Race 6  RC: Short and Conover",null,null,null,null,null,null,null,null,null,null,null,null,null,null,null,null,null,null,null,null,null,null,null,"new tcf =","should ="]
["Windward Leeward Race in Bull Run with 13 to 23 mph wind",null,null,null,null,null,null,null,null,null,null,null,null,null,null,"Time","Time","Approx",null,"Finish Calculations",null,null,null,null,"Winner Adj Time","Winner Adj Time",null,null,"# of Boats"]
[null,null,null,null,null,null,"Handicap",null,"TCF",null,"Finish Time",null,"Calc(1)","Adj.(2)",null,"Behind","Behind","H'cap",null,"S for Spin",null,null,null,null,"/observed",null,null,null,{"$f":"MAX(AC10:AC23)","v":4}]
["Skipper","Boat Name","Initials","Guest?","Boat","Sail #","Spin*","Non-Spin*","Spin*","Non-Spin*","Min.","Sec.","Min.dd","Time","Place","Winner","Boat Ahead","to win",null,"N for non"]
["Cliborne","Bandit",null,null,"J/24",2792,170,{"$f":"IFERROR(G10+15,\"\")","v":185},{"$f":"IF(T10 = \"s\",1000/(900+G10),\"\")","v":0.93457943925233644},{"$f":"IF(T10 =\"n\",1000/(900+H10),\"\")","v":""},{"$f":"IF($AK10>0,(VLOOKUP($B10,'Finish Times'!$A$10:$G$40,6,FALSE)),\"\")","v":57},{"$f":"IF($AK10>0,(VLOOKUP($B10,'Finish Times'!$A$10:$G$40,7,FALSE)),\"\")","v":9},{"$f":"IF(AK10>0,(K10+L10/60)-A$3,\" \")","v":57.15},{"$f":"IFERROR(U10,\" \")","v":53.411214953271028},2,{"$f":"IFERROR(N10-$Y$2,\"\")","v":1.4330218068535814},1.4330218068535814,{"$f":"IFERROR(ROUND((1000/Y10)-900,0),\"\")","v":199},null,"s",{"$f":"IFERROR(IF(M10>0,IF(T10=\"s\",M10*I10,0)+IF(T10=\"n\",M10*J10,0),\" \"),\"\")","v":53.411214953271028},{"$f":"IFERROR(RANK(N10,$N$10:$N$23,1),\"\")","v":2},null,null,{"$f":"IFERROR($Y$2/M10,\"\")","v":0.90950469197580841},{"$f":"IFERROR(M10*Y10,\"\")","v":51.978193146417446},null,1,2,1.4330218068535814,1.4330218068535814,null,null,55,39,null,{"$f":"(VLOOKUP($B10,'Finish Times'!$A$10:$G$40,6,FALSE))","v":57}]
["Forqurean","Dark Horse",null,null,"J/24",1024,170,185,0.93457943925233644,{"$f":"IF(T11 =\"n\",1000/(900+H11),\"\")","v":""},{"$f":"IF($AK11>0,(VLOOKUP($B11,'Finish Times'!$A$10:$G$40,6,FALSE)),\"\")","v":59},{"$f":"IF($AK11>0,(VLOOKUP($B11,'Finish Times'!$A$10:$G$40,7,FALSE)),\"\")","v":11},{"$f":"IF(AK11>0,(K11+L11/60)-A$3,\" \")","v":59.18333333333333},55.311526479750775,3,3.3333333333333286,1.9003115264797472,239,null,"s",{"$f":"IFERROR(IF(M11>0,IF(T11=\"s\",M11*I11,0)+IF(T11=\"n\",M11*J11,0),\" \"),\"\")","v":55.311526479750775},3,null,null,0.87825727648128615,{"$f":"IFERROR(M11*Y11,\"\")","v":51.978193146417446},null,2,3,3.3333333333333286,1.9003115264797472,null,null,56,22,null,{"$f":"(VLOOKUP($B11,'Finish Times'!$A$10:$G$40,6,FALSE))","v":59}]
["Maloney","Boogie Board",null,null,"J/24",1742,170,185,0.93457943925233644,{"$f":"IF(T12 =\"n\",1000/(900+H12),\"\")","v":""},{"$f":"IF($AK12>0,(VLOOKUP($B12,'Finish Times'!$A$10:$G$40,6,FALSE)),\"\")","v":""},{"$f":"IF($AK12>0,(VLOOKUP($B12,'Finish Times'!$A$10:$G$40,7,FALSE)),\"\")","v":""}," ","","","","","",null,"s","","",null,null,"","",null,3,"","","",null,null,54,9,null,{"$f":"(VLOOKUP($B12,'Finish Times'!$A$10:$G$40,6,FALSE))","v":0}]
["Phillip","Rascal",null,null,"J/24",3511,170,185,0.93457943925233644,{"$f":"IF(T13 =\"n\",1000/(900+H13),\"\")","v":""},{"$f":"IF($AK13>0,(VLOOKUP($B13,'Finish Times'!$A$10:$G$40,6,FALSE)),\"\")","v":55},{"$f":"IF($AK13>0,(VLOOKUP($B13,'Finish Times'!$A$10:$G$40,7,FALSE)),\"\")","v":37},55.616666666666667,51.978193146417446,1,0,null,170,null,"s",51.978193146417446,1,null,null,0.93457943925233644,51.978193146417446,null,4,1,0,null,null,null,62,59,null,{"$f":"(VLOOKUP($B13,'Finish Times'!$A$10:$G$40,6,FALSE))","v":55}]
["Sampson","Time Warp",null,null,"J/24",1248,170,185,0.93457943925233644,{"$f":"IF(T14 =\"n\",1000/(900+H14),\"\")","v":""},{"$f":"IF($AK14>0,(VLOOKUP($B14,'Finish Times'!$A$10:$G$40,6,FALSE)),\"\")","v":""},{"$f":"IF($AK14>0,(VLOOKUP($B14,'Finish Times'!$A$10:$G$40,7,FALSE)),\"\")","v":""}," ","","","","","",null,"s","","",null,null,"","",null,5,"","","",null,null,59,12,null,{"$f":"(VLOOKUP($B14,'Finish Times'!$A$10:$G$40,6,FALSE))","v":0}]
["Schiable","Catch 22",null,null,"J22",826,177,192,0.92850510677808729,"",{"$f":"IF($AK15>0,(VLOOKUP($B15,'Finish Times'!$A$10:$G$40,6,FALSE)),\"\")","v":80},{"$f":"IF($AK15>0,(VLOOKUP($B15,'Finish Times'!$A$10:$G$40,7,FALSE)),\"\")","v":30},80.5,74.744661095636033,4,22.766467949218587,19.433134615885258,649,null,"s",74.744661095636033,4,null,null,0.64569184032816707,51.978193146417446,null,6,4,22.766467949218587,19.433134615885258,null,null,56,58,null,{"$f":"(VLOOKUP($B15,'Finish Times'!$A$10:$G$40,6,FALSE))","v":80}]
["Gietl","UDO",null,null,"VX One",119,107,122,0.99304865938430986,"",{"$f":"IF($AK16>0,(VLOOKUP($B16,'Finish Times'!$A$10:$G$40,6,FALSE)),\"\")","v":""},{"$f":"IF($AK16>0,(VLOOKUP($B16,'Finish Times'!$A$10:$G$40,7,FALSE)),\"\")","v":""}," ","","","","","",null,"s","","",null,null,"","",null,8,"","","",null,null,null,null,null,{"$f":"(VLOOKUP($B16,'Finish Times'!$A$10:$G$40,6,FALSE))","v":0}]
[null,null,null,null,null,null,null,null,null,{"$f":"IF(T17 =\"n\",1000/(900+H17),\"\")","v":""},null,null,null," ","","","","",null,"s"," ","",null,null,"","",null,9,"","","",null,null,null,null,null,{"$f":"(VLOOKUP($B17,'Finish Times'!$A$10:$G$40,6,FALSE))","v":{"$error":"#N/A"}}]
[null,null,null,null,null,null,null,null,null,null,null,null,{"$f":"IF(K18>0,(K18+L18/60)-A$3,\" \")","v":" "},{"$f":"IFERROR(U18,\" \")","v":""},{"$f":"IFERROR(V18,\" \")","v":""},{"$f":"IFERROR(N18-$Y$2,\"\")","v":""},"",{"$f":"IFERROR(ROUND((1000/Y18)-900,0),\"\")","v":""},null,"n","","",null,null,"","",null,10,"","",""]
[null,null,null,null,null,null,null,null,null,null,null,null," ","","","","","",null,"n","","",null,null,"","",null,11,"","",""]
[null,null,null,null,null,null,null,null,null,null,null,null,null,null,null,null,"",null,null,"n"," ","",null,null,"","",null,12,null,null,""]
[null,null,null,null,null,null,null,null,null,null,null,null,{"$f":"IF(K21>0,(K21+L21/60)-A$3,\" \")","v":" "},"","","","","",null,"n","","",null,null,"","",null,13,"","",""]
[null,null,null,null,null,null,null,null,null,null,null,null," ","","","","","",null,"n","","",null,null,"","",null,14,"","",""]
[null,null,null,null,null,null,null,null,null,null,null,null," ","","","","","",null,"n","","",null,null,"","",null,15,"","",""]
["Race Start Time ",null,null,null,null,null,null,null,null,null,null,null,null,"FLEET ONE",null,null,0,null,null,null,null,null,null,null,null,null,null,16,null,null,0]
["(In case race timer has issues, use clock time as backup and do the math)",null,null,null,null,null,null,null,null,null,null,null,null,null,null,null,0,null,null,null,null,null,null,null,null,null,null,17,null,null,0]
["(1) Convert seconds to decimal equivalent - see reference sheet",null,null,null,null,null,null,null,null,null,null,null,null,null,null,null,0,null,null,null,null,null,null,null,null,null,null,18,null,null,0]
["(2) Multiply time in minutes by circled TCF",null,null,null,null,null,null,null,null,null,null,null,null,null,null,null,0,null,null,null,null,null,null,null,null,null,null,19,null,null,0]
[null,null,null,null,null,null,null,null,null,null,null,null,null,null,null,null,0,null,null,null,null,null,null,null,null,null,null,null,null,null,0]
["FLEET ONE",null,null,null,null,null,null,null,null,null,null,null,"RACE #"]

{"sheet":"Finish Times (2)","index":2,"n_rows":39,"n_cols":7,"rows_kept":39,"cut":false,"hidden":true,"merged":[]}
[]
[]
[]
["MUST",null,"FLEET 1"]
["BE",null,"FLEET 2"]
["IN ALPHA",null,"FLEET 3"]
["ORDER",null,"FLEET 4"]
[null,null,null,null,null,"Finish Time"]
["BOAT NAME","FLEET","BOAT","SAIL #","SKIPPER","MINUTES","SECONDS"]
["Bandit",1,"J/24",2792,"Cliborne"]
["Blunder Bus",1,"J/24",null,"Hardy"]
["Boogie Board",1,"J/24",1742,"Maloney"]
["Catch 22",1,"J22",826,"Schiable"]
["Dark Horse",1,"J/24",1024,"Forqurean"]
["Fox Trot",1,"Colgate 26",null,"Haddon"]
["Rascal",1,"J/24",3511,"Phillip"]
["Time Warp",1,"J/24",1248,"Sampson"]
["UDO",1,"VX One",119,"Gietl"]
["Destiny",2,"Alerion 20",6,"Whitt"]
["Fools Game",2,"Pearson 26",1183,"Hull"]
["Gotcha",2,"S-2 6.7",75,"Theis"]
["Majical",2,"Cal 25",1687,"Witten"]
["Severence",2,"C&C 25",14755,"Evans"]
["Stoic",2,"Harbor 20",330,"Hemler"]
["StressLess",2,"Harbor 20",212,"Breckenridge"]
["Synergy",2,"Harbor 20",215,"Miekina"]
["Circle Back",3,"Catalina 22","C22","Nash"]
["Miss Virginia",3,"Hunter 23.5",1309,"Perdue"]
["Norse Raider",3,"Ericson 23",23,"Short"]
["Second Wind",3,"Ericson 23",470,"Schraw"]
["Tundra Swan",3,"Hunter 23",1256,"Gobble"]
["Alarming",4,"S-2 9.2",505,"Oginz"]
["BILL",4,"Hunter 356",null,"Gillespie"]
["Felicite",4,"S-2 27 IB",13,"Johnson"]
["Got to Go",4,"Catalina 30",97,"Forrester"]
["Janet Anne",4,"Catalina 25",5155,"Tunnell"]
["Little Wing",4,"Beneteau 29",485,"DeMestro"]
["More Mischief",4,"Beneteau 285",144,"Gearhart"]
["Willaway",4,"Columbia 29",222,"Conover"]

{"sheet":"Fleet 2","index":3,"n_rows":30,"n_cols":37,"rows_kept":30,"cut":false,"hidden":false,"merged":[[4,0,4,14],[5,0,5,14],[6,0,6,14],[6,19,6,21],[7,6,7,7],[7,8,7,9],[7,10,7,11]]}
[null,null,null,null,null,null,null,null,null,null,null,null,null,null,null,null,null,null,null,null,null,null,null,null,"Winner"]
[null,null,null,null,null,null,null,null,null,null,null,null,null,null,null,null,null,null,null,null,null,null,null,null,{"$f":"MIN(N10:N24)","v":59.647577092511014}]
[0,"<-----Minutes after first start"]
[]
["Blackwater Yacht Racing Association - Sign Up Sheet Fleet II (TWO)",null,null,null,null,null,null,null,null,null,null,null,null,null,null,null,null,null,null,null,null,null,null,null,null,"Test"]
["Date: Oct. 8, 2016      2016 Fall Series Race 6  RC: Short and Conover",null,null,null,null,null,null,null,null,null,null,null,null,null,null,null,null,null,null,null,null,null,null,null,"new tcf =","should ="]
["Windward Leeward Race in Bull Run with 13 to 23 mph wind",null,null,null,null,null,null,null,null,null,null,null,null,null,null,"Time","Time","Approx",null,"Finish Calculations",null,null,null,null,"Winner Adj Time","Winner Adj Time",null,null,"# of Boats"]
[null,null,null,null,null,null,"Handicap",null,"TCF",null,"Finish Time",null,"Calc(1)","Adj.(2)",null,"Behind","Behind","H'cap",null,"S for Spin",null,null,null,null,"/observed",null,null,null,{"$f":"MAX(AC10:AC24)","v":3}]
["Skipper","Boat Name","Initials","Guest?","Boat","Sail #","Spin*","Non-Spin*","Spin*","Non-Spin*","Min.","Sec.","Min.dd","Time","Place","Winner","Boat Ahead","to win",null,"N for non"]
["Theis","Gotcha",null,null,"S-2 6.7",75,208,{"$f":"IFERROR(G10+15,\"\")","v":223},{"$f":"IF(T10 = \"s\",1000/(900+G10),\"\")","v":0.90252707581227432},{"$f":"IF(T10 =\"n\",1000/(900+H10),\"\")","v":""},{"$f":"IF(AK10>0,VLOOKUP($B10,'Finish Times'!$A$10:$G$40,6,FALSE),\"\")","v":""},{"$f":"IF(AK10>0,VLOOKUP($B10,'Finish Times'!$A$10:$G$40,7,FALSE),\"\")","v":""},{"$f":"IF(AK10>0,(K10+L10/60)-A$3,\" \")","v":" "},{"$f":"IFERROR(U10,\" \")","v":""},"",{"$f":"IFERROR(N10-$Y$2,\"\")","v":""},"",{"$f":"IFERROR(ROUND((1000/Y10)-900,0),\"\")","v":""},null,"s",{"$f":"IFERROR(IF(M10>0,IF(T10=\"s\",M10*I10,0)+IF(T10=\"n\",M10*J10,0),\" \"),\"\")","v":""},{"$f":"IFERROR(RANK(N10,$N$10:$N$24,1),\"\")","v":""},null,null,{"$f":"IFERROR($Y$2/M10,\"\")","v":""},{"$f":"IFERROR(M10*Y10,\"\")","v":""},null,1,"","","",null,null,55,39,null,{"$f":"VLOOKUP($B10,'Finish Times'!$A$10:$G$40,6,FALSE)","v":0}]
["Hull","Fools Game",null,null,"Pearson 26",1183,216,{"$f":"IFERROR(G11+15,\"\")","v":231},{"$f":"IF(T11 = \"s\",1000/(900+G11),\"\")","v":0.89605734767025091},{"$f":"IF(T11 =\"n\",1000/(900+H11),\"\")","v":""},{"$f":"IF(AK11>0,VLOOKUP($B11,'Finish Times'!$A$10:$G$40,6,FALSE),\"\")","v":""},{"$f":"IF(AK11>0,VLOOKUP($B11,'Finish Times'!$A$10:$G$40,7,FALSE),\"\")","v":""},{"$f":"IF(AK11>0,(K11+L11/60)-A$3,\" \")","v":" "},"","","","","",null,"s",{"$f":"IFERROR(IF(M11>0,IF(T11=\"s\",M11*I11,0)+IF(T11=\"n\",M11*J11,0),\" \"),\"\")","v":""},{"$f":"IFERROR(RANK(N11,$N$10:$N$24,1),\"\")","v":""},null,null,"",{"$f":"IFERROR(M11*Y11,\"\")","v":""},null,2,"","","",null,null,56,22,null,{"$f":"VLOOKUP($B11,'Finish Times'!$A$10:$G$40,6,FALSE)","v":0}]
["Evans","Severence",null,null,"C&C 25",14755,218,233,{"$f":"IF(T12 = \"s\",1000/(900+G12),\"\")","v":0.89445438282647582},{"$f":"IF(T12 =\"n\",1000/(900+H12),\"\")","v":""},{"$f":"IF(AK12>0,VLOOKUP($B12,'Finish Times'!$A$10:$G$40,6,FALSE),\"\")","v":""},{"$f":"IF(AK12>0,VLOOKUP($B12,'Finish Times'!$A$10:$G$40,7,FALSE),\"\")","v":""}," ","","","","","",null,"s","","",null,null,"","",null,3,"","","",null,null,54,9,null,{"$f":"VLOOKUP($B12,'Finish Times'!$A$10:$G$40,6,FALSE)","v":0}]
["Witten","Majical",null,null,"Cal 25",1687,224,239,{"$f":"IF(T13 = \"s\",1000/(900+G13),\"\")","v":0.88967971530249113},{"$f":"IF(T13 =\"n\",1000/(900+H13),\"\")","v":""},{"$f":"IF(AK13>0,VLOOKUP($B13,'Finish Times'!$A$10:$G$40,6,FALSE),\"\")","v":""},{"$f":"IF(AK13>0,VLOOKUP($B13,'Finish Times'!$A$10:$G$40,7,FALSE),\"\")","v":""}," ","","","","","",null,"s","","",null,null,"","",null,4,"","","",null,null,62,59,null,{"$f":"VLOOKUP($B13,'Finish Times'!$A$10:$G$40,6,FALSE)","v":0}]
["Breckenridge","StressLess",null,null,"Harbor 20",212,220,{"$f":"IFERROR(G14+15,\"\")","v":235},{"$f":"IF(T14 = \"s\",1000/(900+G14),\"\")","v":""},{"$f":"IF(T14 =\"n\",1000/(900+H14),\"\")","v":0.88105726872246692},{"$f":"IF(AK14>0,VLOOKUP($B14,'Finish Times'!$A$10:$G$40,6,FALSE),\"\")","v":67},{"$f":"IF(AK14>0,VLOOKUP($B14,'Finish Times'!$A$10:$G$40,7,FALSE),\"\")","v":45},67.75,{"$f":"IFERROR(U14,\" \")","v":59.691629955947135},{"$f":"IFERROR(V14,\" \")","v":2},{"$f":"IFERROR(N14-$Y$2,\"\")","v":4.405286343612147E-2},4.405286343612147E-2,{"$f":"IFERROR(ROUND((1000/Y14)-900,0),\"\")","v":236},null,"n",59.691629955947135,2,null,null,0.88040704195588215,59.647577092511014,null,5,2,4.405286343612147E-2,4.405286343612147E-2,null,null,59,12,null,{"$f":"VLOOKUP($B14,'Finish Times'!$A$10:$G$40,6,FALSE)","v":67}]
["Miekina","Synergy",null,null,"Harbor 20",215,220,235,"",0.88105726872246692,{"$f":"IF(AK15>0,VLOOKUP($B15,'Finish Times'!$A$10:$G$40,6,FALSE),\"\")","v":""},{"$f":"IF(AK15>0,VLOOKUP($B15,'Finish Times'!$A$10:$G$40,7,FALSE),\"\")","v":""}," ","","","","","",null,"n","","",null,null,"","",null,6,"","","",null,null,56,58,null,{"$f":"VLOOKUP($B15,'Finish Times'!$A$10:$G$40,6,FALSE)","v":0}]
["Hemler","Stoic",null,null,"Harbor 20",330,220,235,"",0.88105726872246692,{"$f":"IF(AK16>0,VLOOKUP($B16,'Finish Times'!$A$10:$G$40,6,FALSE),\"\")","v":67},{"$f":"IF(AK16>0,VLOOKUP($B16,'Finish Times'!$A$10:$G$40,7,FALSE),\"\")","v":42},67.7,59.647577092511014,1,0,null,235,null,"n",59.647577092511014,1,null,null,0.88105726872246692,59.647577092511014,null,7,1,0,null,null,null,64,47,null,{"$f":"VLOOKUP($B16,'Finish Times'!$A$10:$G$40,6,FALSE)","v":67}]
["Tunnell","Courageous",null,null,"Harbor 20",278,220,235,"",0.88105726872246692,{"$f":"IF(AK17>0,VLOOKUP($B17,'Finish Times'!$A$10:$G$40,6,FALSE),\"\")","v":""},{"$f":"IF(AK17>0,VLOOKUP($B17,'Finish Times'!$A$10:$G$40,7,FALSE),\"\")","v":""}," ","","","","","",null,"n","","",null,null,"","",null,8,"","","",null,null,null,null,null,{"$f":"VLOOKUP($B17,'Finish Times'!$A$10:$G$40,6,FALSE)","v":0}]
["Whitt","Destiny",null,null,"Alerion 20",6,223,{"$f":"IFERROR(G18+15,\"\")","v":238},{"$f":"IF(T18 = \"s\",1000/(900+G18),\"\")","v":""},{"$f":"IF(T18 =\"n\",1000/(900+H18),\"\")","v":0.87873462214411246},{"$f":"IF(AK18>0,VLOOKUP($B18,'Finish Times'!$A$10:$G$40,6,FALSE),\"\")","v":69},{"$f":"IF(AK18>0,VLOOKUP($B18,'Finish Times'!$A$10:$G$40,7,FALSE),\"\")","v":50},{"$f":"IF(AK18>0,(K18+L18/60)-A$3,\" \")","v":69.833333333333329},{"$f":"IFERROR(U18,\" \")","v":61.364967779730513},{"$f":"IFERROR(V18,\" \")","v":3},{"$f":"IFERROR(N18-$Y$2,\"\")","v":1.7173906872194991},1.6733378237833776,{"$f":"IFERROR(ROUND((1000/Y18)-900,0),\"\")","v":271},null,"n",61.364967779730513,3,null,null,0.85414191540588569,59.647577092511014,null,9,3,1.7173906872194991,1.6733378237833776,null,null,null,null,null,{"$f":"VLOOKUP($B18,'Finish Times'!$A$10:$G$40,6,FALSE)","v":69}]
["Firing","Fenix",null,null,"San Juan 24",556,218,{"$f":"IFERROR(G19+15,\"\")","v":233},{"$f":"IF(T19 = \"s\",1000/(900+G19),\"\")","v":0.89445438282647582},{"$f":"IF(T19 =\"n\",1000/(900+H19),\"\")","v":""},{"$f":"IF(AK19>0,VLOOKUP($B19,'Finish Times'!$A$10:$G$40,6,FALSE),\"\")","v":""},{"$f":"IF(AK19>0,VLOOKUP($B19,'Finish Times'!$A$10:$G$40,7,FALSE),\"\")","v":""},{"$f":"IF(AK19>0,(K19+L19/60)-A$3,\" \")","v":" "},{"$f":"IFERROR(U19,\" \")","v":""},{"$f":"IFERROR(V19,\" \")","v":""},{"$f":"IFERROR(N19-$Y$2,\"\")","v":""},"",{"$f":"IFERROR(ROUND((1000/Y19)-900,0),\"\")","v":""},null,"s","","",null,null,"","",null,10,"","","",null,null,null,null,null,{"$f":"VLOOKUP($B19,'Finish Times'!$A$10:$G$40,6,FALSE)","v":0}]
[null,null,null,null,null,null,null,null,null,null,null,null,null," ","","","","",null,"s"," ","",null,null,"","",null,11,"","","",null,null,null,null,null,{"$f":"VLOOKUP($B20,'Finish Times'!$A$10:$G$40,6,FALSE)","v":{"$error":"#N/A"}}]
[null,null,null,null,null,null,null,null,null,null,null,null,null," ","","","","",null,"n"," ","",null,null,"","",null,12,"","","",null,null,null,null,null,{"$f":"VLOOKUP($B21,'Finish Times'!$A$10:$G$40,6,FALSE)","v":{"$error":"#N/A"}}]
[null,null,null,null,null,null,null,null,null,null,null,null,null," ","","","","",null,"n"," ","",null,null,"","",null,13,"","","",null,null,null,null,null,{"$f":"VLOOKUP($B22,'Finish Times'!$A$10:$G$40,6,FALSE)","v":{"$error":"#N/A"}}]
[null,null,null,null,null,null,null,null,null,null,null,null,null," ","","","","",null,"n"," ","",null,null,"","",null,14,"","","",null,null,null,null,null,{"$f":"VLOOKUP($B23,'Finish Times'!$A$10:$G$40,6,FALSE)","v":{"$error":"#N/A"}}]
[null,null,null,null,null,null,null,null,null,null,null,null,null," ","","","","",null,"n"," ","",null,null,"","",null,15,"","","",null,null,null,null,null,{"$f":"VLOOKUP($B24,'Finish Times'!$A$10:$G$40,6,FALSE)","v":{"$error":"#N/A"}}]
["Race Start Time ",null,null,null,null,null,null,null,null,null,null,null,null,"FLEET TWO",null,null,"",null,null,null,null,null,null,null,null,null,null,null,null,null,""]
["(In case race timer has issues, use clock time as backup and do the math)",null,null,null,null,null,null,null,null,null,null,null,null,null,null,null,0,null,null,null,null,null,null,null,null,null,null,null,null,null,0]
["(1) Convert seconds to decimal equivalent - see reference sheet",null,null,null,null,null,null,null,null,null,null,null,null,null,null,null,0,null,null,null,null,null,null,null,null,null,null,null,null,null,0]
["(2) Multiply time in minutes by circled TCF",null,null,null,null,null,null,null,null,null,null,null,null,null,null,null,0,null,null,null,null,null,null,null,null,null,null,null,null,null,0]
[]
["FLEET TWO",null,null,null,null,null,null,null,null,null,null,null,"RACE #"]

{"sheet":"Fleet 3","index":4,"n_rows":30,"n_cols":37,"rows_kept":30,"cut":false,"hidden":false,"merged":[[4,0,4,14],[5,0,5,14],[6,0,6,14],[6,19,6,21],[7,6,7,7],[7,8,7,9],[7,10,7,11]]}
[null,null,null,null,null,null,null,null,null,null,null,null,null,null,null,null,null,null,null,null,null,null,null,null,"Winner"]
[null,null,null,null,null,null,null,null,null,null,null,null,null,null,null,null,null,null,null,null,null,null,null,null,{"$f":"MIN(N10:N24)","v":34.067991933160471}]
[5,"<-----Minutes after first start"]
[]
["Blackwater Yacht Racing Association - Sign Up Sheet Fleet III (THREE)",null,null,null,null,null,null,null,null,null,null,null,null,null,null,null,null,null,null,null,null,null,null,null,null,"Test"]
["Date: Oct. 8, 2016      2016 Fall Series Race 6  RC: Short and Conover",null,null,null,null,null,null,null,null,null,null,null,null,null,null,null,null,null,null,null,null,null,null,null,"new tcf =","should ="]
["Windward Leeward Race in Bull Run with 13 to 23 mph wind",null,null,null,null,null,null,null,null,null,null,null,null,null,null,"Time","Time","Approx",null,"Finish Calculations",null,null,null,null,"Winner Adj Time","Winner Adj Time",null,null,"# of Boats"]
[null,null,null,null,null,null,"Handicap",null,"TCF",null,"Finish Time",null,"Calc(1)","Adj.(2)",null,"Behind","Behind","H'cap",null,"S for Spin",null,null,null,null,"/observed",null,null,null,{"$f":"MAX(AC10:AC24)","v":3}]
["Skipper","Boat Name","Initials","Guest?","Boat","Sail #","Spin*","Non-Spin*","Spin*","Non-Spin*","Min.","Sec.","Min.dd","Time","Place","Winner","Boat Ahead","to win",null,"N for non"]
["Perdue","Miss Virginia",null,null,"Hunter 23.5",1309,244,{"$f":"IFERROR(G10+15,\"\")","v":259},{"$f":"IF(T10 = \"s\",1000/(900+G10),\"\")","v":0.87412587412587417},{"$f":"IF(T10 =\"n\",1000/(900+H10),\"\")","v":""},{"$f":"IF(AK10>0,VLOOKUP($B10,'Finish Times'!$A$10:$G$40,6,FALSE),\" \")","v":50},{"$f":"IF(AK10>0,VLOOKUP($B10,'Finish Times'!$A$10:$G$40,7,FALSE),\" \")","v":23},{"$f":"IF(AK10>0,(K10+L10/60)-A$3,\" \")","v":45.383333333333333},{"$f":"IFERROR(U10,\" \")","v":39.670745920745922},3,{"$f":"IFERROR(N10-$Y$2,\"\")","v":5.6027539875854515},4.1151903651903652,{"$f":"IFERROR(ROUND((1000/Y10)-900,0),\"\")","v":432},null,"s",{"$f":"IFERROR(IF(M10>0,IF(T10=\"s\",M10*I10,0)+IF(T10=\"n\",M10*J10,0),\" \"),\"\")","v":39.670745920745922},{"$f":"IFERROR(RANK(N10,$N$10:$N$24,1),\"\")","v":3},null,null,{"$f":"IFERROR($Y$2/M10,\"\")","v":0.75067187513390687},{"$f":"IFERROR(M10*Y10,\"\")","v":34.067991933160471},null,1,3,5.6027539875854515,4.1151903651903652,null,null,55,39,null,{"$f":"VLOOKUP($B10,'Finish Times'!$A$10:$G$40,6,FALSE)","v":50}]
["Schraw","Second Wind",null,null,"Ericson 23",470,240,{"$f":"IFERROR(G11+15,\"\")","v":255},{"$f":"IF(T11 = \"s\",1000/(900+G11),\"\")","v":""},{"$f":"IF(T11 =\"n\",1000/(900+H11),\"\")","v":0.86580086580086579},{"$f":"IF(AK11>0,VLOOKUP($B11,'Finish Times'!$A$10:$G$40,6,FALSE),\" \")","v":46},{"$f":"IF(AK11>0,VLOOKUP($B11,'Finish Times'!$A$10:$G$40,7,FALSE),\" \")","v":4},{"$f":"IF(AK11>0,(K11+L11/60)-A$3,\" \")","v":41.06666666666667},35.555555555555557,2,1.4875636223950863,1.4875636223950863,305,null,"n",{"$f":"IFERROR(IF(M11>0,IF(T11=\"s\",M11*I11,0)+IF(T11=\"n\",M11*J11,0),\" \"),\"\")","v":35.555555555555557},{"$f":"IFERROR(RANK(N11,$N$10:$N$24,1),\"\")","v":2},null,null,0.82957772564514132,{"$f":"IFERROR(M11*Y11,\"\")","v":34.067991933160471},null,2,2,1.4875636223950863,1.4875636223950863,null,null,56,22,null,{"$f":"VLOOKUP($B11,'Finish Times'!$A$10:$G$40,6,FALSE)","v":46}]
["Short","Fever",null,null,"Ericson 23",269,{"$f":"241+3","v":244},259,{"$f":"IF(T12 = \"s\",1000/(900+G12),\"\")","v":""},{"$f":"IF(T12 =\"n\",1000/(900+H12),\"\")","v":0.86281276962899056},{"$f":"IF(AK12>0,VLOOKUP($B12,'Finish Times'!$A$10:$G$40,6,FALSE),\" \")","v":" "},{"$f":"IF(AK12>0,VLOOKUP($B12,'Finish Times'!$A$10:$G$40,7,FALSE),\" \")","v":" "}," ","","","","","",null,"n","","",null,null,"","",null,3,"","","",null,null,54,9,null,{"$f":"VLOOKUP($B12,'Finish Times'!$A$10:$G$40,6,FALSE)","v":0}]
["Gobble","Always Something",null,null,"Hunter 23",1256,242,257,{"$f":"IF(T13 = \"s\",1000/(900+G13),\"\")","v":""},{"$f":"IF(T13 =\"n\",1000/(900+H13),\"\")","v":0.86430423509075194},{"$f":"IF(AK13>0,VLOOKUP($B13,'Finish Times'!$A$10:$G$40,6,FALSE),\" \")","v":44},{"$f":"IF(AK13>0,VLOOKUP($B13,'Finish Times'!$A$10:$G$40,7,FALSE),\" \")","v":25},39.416666666666664,34.067991933160471,1,0,null,257,null,"n",34.067991933160471,1,null,null,0.86430423509075194,34.067991933160471,null,4,1,0,null,null,null,62,59,null,{"$f":"VLOOKUP($B13,'Finish Times'!$A$10:$G$40,6,FALSE)","v":44}]
["Witten","Majical",null,null,"Cal 25",1687,224,239,{"$f":"IF(T14 = \"s\",1000/(900+G14),\"\")","v":0.88967971530249113},{"$f":"IF(T14 =\"n\",1000/(900+H14),\"\")","v":""},{"$f":"IF(AK14>0,VLOOKUP($B14,'Finish Times'!$A$10:$G$40,6,FALSE),\" \")","v":" "},{"$f":"IF(AK14>0,VLOOKUP($B14,'Finish Times'!$A$10:$G$40,7,FALSE),\" \")","v":" "}," ","","","","","",null,"s","","",null,null,"","",null,5,"","","",null,null,59,12,null,{"$f":"VLOOKUP($B14,'Finish Times'!$A$10:$G$40,6,FALSE)","v":0}]
["Gillespie","King Bills Revenge",null,null,"San Juan 21",153,251,266,"",0.85763293310463118,null,null,null,{"$f":"IFERROR(U15,\" \")","v":" "},{"$f":"IFERROR(V15,\" \")","v":""},{"$f":"IFERROR(N15-$Y$2,\"\")","v":""},"",{"$f":"IFERROR(ROUND((1000/Y15)-900,0),\"\")","v":""},null,"n"," ","",null,null,"","",null,6,"","","",null,null,56,58,null,{"$f":"VLOOKUP($B15,'Finish Times'!$A$10:$G$40,6,FALSE)","v":0}]
[null,null,null,null,null,null,null,null,null,null,null,null,null," ","","","","",null,"n"," ","",null,null,"","",null,7,"","","",null,null,64,47,null,{"$f":"VLOOKUP($B16,'Finish Times'!$A$10:$G$40,6,FALSE)","v":{"$error":"#N/A"}}]
[null,null,null,null,null,null,null,null,null,null,null,null,null," ","","","","",null,"n"," ","",null,null,"","",null,8,"","","",null,null,null,null,null,{"$f":"VLOOKUP($B17,'Finish Times'!$A$10:$G$40,6,FALSE)","v":{"$error":"#N/A"}}]
[null,null,null,null,null,null,null,null,null,null,null,null,null," ","","","","",null,"n"," ","",null,null,"","",null,9,"","","",null,null,null,null,null,{"$f":"VLOOKUP($B18,'Finish Times'!$A$10:$G$40,6,FALSE)","v":{"$error":"#N/A"}}]
[null,null,null,null,null,null,null,null,null,null,null,null,null," ","","","","",null,"n"," ","",null,null,"","",null,10,"","","",null,null,null,null,null,{"$f":"VLOOKUP($B19,'Finish Times'!$A$10:$G$40,6,FALSE)","v":{"$error":"#N/A"}}]
[null,null,null,null,null,null,null,null,null,null,null,null,null," ","","","","",null,"s"," ","",null,null,"","",null,11,"","","",null,null,null,null,null,{"$f":"VLOOKUP($B20,'Finish Times'!$A$10:$G$40,6,FALSE)","v":{"$error":"#N/A"}}]
[null,null,null,null,null,null,null,null,null,null,null,null,null," ","","","","",null,"n"," ","",null,null,"","",null,12,"","","",null,null,null,null,null,{"$f":"VLOOKUP($B21,'Finish Times'!$A$10:$G$40,6,FALSE)","v":{"$error":"#N/A"}}]
[null,null,null,null,null,null,null,null,null,null,null,null,null," ","","","","",null,"n"," ","",null,null,"","",null,13,"","","",null,null,null,null,null,{"$f":"VLOOKUP($B22,'Finish Times'!$A$10:$G$40,6,FALSE)","v":{"$error":"#N/A"}}]
[null,null,null,null,null,null,null,null,null,null,null,null,null," ","","","","",null,"n"," ","",null,null,"","",null,14,"","","",null,null,null,null,null,{"$f":"VLOOKUP($B23,'Finish Times'!$A$10:$G$40,6,FALSE)","v":{"$error":"#N/A"}}]
[null,null,null,null,null,null,null,null,null,null,null,null,null," ","","","","",null,"n"," ","",null,null,"","",null,15,"","","",null,null,null,null,null,{"$f":"VLOOKUP($B24,'Finish Times'!$A$10:$G$40,6,FALSE)","v":{"$error":"#N/A"}}]
["Race Start Time ",null,null,null,null,null,null,null,null,null,null,null,null,"FLEET THREE",null,null,"",null,null,null,null,null,null,null,null,null,null,null,null,null,""]
["(In case race timer has issues, use clock time as backup and do the math)",null,null,null,null,null,null,null,null,null,null,null,null,null,null,null,0,null,null,null,null,null,null,null,null,null,null,null,null,null,0]
["(1) Convert seconds to decimal equivalent - see reference sheet",null,null,null,null,null,null,null,null,null,null,null,null,null,null,null,0,null,null,null,null,null,null,null,null,null,null,null,null,null,0]
["(2) Multiply time in minutes by circled TCF",null,null,null,null,null,null,null,null,null,null,null,null,null,null,null,0,null,null,null,null,null,null,null,null,null,null,null,null,null,0]
[]
["FLEET THREE",null,null,null,null,null,null,null,null,null,null,null,"RACE #"]

{"sheet":"Fleet 4","index":5,"n_rows":29,"n_cols":37,"rows_kept":29,"cut":false,"hidden":false,"merged":[[4,0,4,14],[5,0,5,14],[6,0,6,14],[6,19,6,21],[7,6,7,7],[7,8,7,9],[7,10,7,11]]}
[null,null,null,null,null,null,null,null,null,null,null,null,null,null,null,null,null,null,null,null,null,null,null,null,"Winner"]
[null,null,null,null,null,null,null,null,null,null,null,null,null,null,null,null,null,null,null,null,null,null,null,null,{"$f":"MIN(N10:N23)","v":32.747219717463182}]
[5,"<-----Minutes after first start"]
[]
["Blackwater Yacht Racing Association - Sign Up Sheet Fleet IV (FOUR)",null,null,null,null,null,null,null,null,null,null,null,null,null,null,null,null,null,null,null,null,null,null,null,null,"Test"]
["Date: Oct. 8, 2016      2016 Fall Series Race 6  RC: Short and Conover",null,null,null,null,null,null,null,null,null,null,null,null,null,null,null,null,null,null,null,null,null,null,null,"new tcf =","should ="]
["Windward Leeward Race in Bull Run with 13 to 23 mph wind",null,null,null,null,null,null,null,null,null,null,null,null,null,null,"Time","Time","Approx",null,"Finish Calculations",null,null,null,null,"Winner Adj Time","Winner Adj Time",null,null,"# of Boats"]
[null,null,null,null,null,null,"Handicap",null,"TCF",null,"Finish Time",null,"Calc(1)","Adj.(2)",null,"Behind","Behind","H'cap",null,"S for Spin",null,null,null,null,"/observed",null,null,null,{"$f":"MAX(AC10:AC23)","v":3}]
["Skipper","Boat Name","Initials","Guest?","Boat","Sail #","Spin*","Non-Spin*","Spin*","Non-Spin*","Min.","Sec.","Min.dd","Time","Place","Winner","Boat Ahead","to win",null,"N for non"]
["DeMestro","Little Wing",null,null,"Beneteau 29",485,168,{"$f":"IFERROR(G10+15,\"\")","v":183},{"$f":"IF(T10 = \"s\",1000/(900+G10),\"\")","v":""},{"$f":"IF(T10 =\"n\",1000/(900+H10),\"\")","v":0.92336103416435822},{"$f":"IF(AK10>0,VLOOKUP($B10,'Finish Times'!$A$10:$G$40,6,FALSE),\" \")","v":41},{"$f":"IF(AK10>0,VLOOKUP($B10,'Finish Times'!$A$10:$G$40,7,FALSE),\" \")","v":32},{"$f":"IF(AK10>0,(K10+L10/60)-A$3,\" \")","v":36.533333333333331},{"$f":"IFERROR(U10,\" \")","v":33.733456448137886},2,{"$f":"IFERROR(N10-$Y$2,\"\")","v":0.98623673067470463},0.98623673067470463,{"$f":"IFERROR(ROUND((1000/Y10)-900,0),\"\")","v":216},null,"n",{"$f":"IFERROR(IF(M10>0,IF(T10=\"s\",M10*I10,0)+IF(T10=\"n\",M10*J10,0),\" \"),\"\")","v":33.733456448137886},{"$f":"IFERROR(RANK(N10,$N$10:$N$23,1),\"\")","v":2},null,null,{"$f":"IFERROR($Y$2/M10,\"\")","v":0.89636550321523312},{"$f":"IFERROR(M10*Y10,\"\")","v":32.747219717463182},null,1,2,0.98623673067470463,0.98623673067470463,null,null,55,39,null,{"$f":"VLOOKUP($B10,'Finish Times'!$A$10:$G$40,6,FALSE)","v":41}]
["Oginz","Alarming",null,null,"S-2 9.2",505,{"$f":"183+3+3","v":189},{"$f":"IFERROR(G11+15,\"\")","v":204},{"$f":"IF(T11 = \"s\",1000/(900+G11),\"\")","v":""},{"$f":"IF(T11 =\"n\",1000/(900+H11),\"\")","v":0.90579710144927539},{"$f":"IF(AK11>0,VLOOKUP($B11,'Finish Times'!$A$10:$G$40,6,FALSE),\" \")","v":47},{"$f":"IF(AK11>0,VLOOKUP($B11,'Finish Times'!$A$10:$G$40,7,FALSE),\" \")","v":9},{"$f":"IF(AK11>0,(K11+L11/60)-A$3,\" \")","v":42.15},38.179347826086953,3,5.4321281086237718,4.4458913779490672,387,null,"n",{"$f":"IFERROR(IF(M11>0,IF(T11=\"s\",M11*I11,0)+IF(T11=\"n\",M11*J11,0),\" \"),\"\")","v":38.179347826086953},3,null,null,0.77692098973815382,{"$f":"IFERROR(M11*Y11,\"\")","v":32.747219717463182},null,2,3,5.4321281086237718,4.4458913779490672,null,null,56,22,null,{"$f":"VLOOKUP($B11,'Finish Times'!$A$10:$G$40,6,FALSE)","v":47}]
["Gearhart","More Mischief",null,null,"Beneteau 285",144,{"$f":"193+6","v":199},214,{"$f":"IF(T12 = \"s\",1000/(900+G12),\"\")","v":""},{"$f":"IF(T12 =\"n\",1000/(900+H12),\"\")","v":0.89766606822262118},{"$f":"IF(AK12>0,VLOOKUP($B12,'Finish Times'!$A$10:$G$40,6,FALSE),\" \")","v":" "},{"$f":"IF(AK12>0,VLOOKUP($B12,'Finish Times'!$A$10:$G$40,7,FALSE),\" \")","v":" "}," ","","","","","",null,"n","","",null,null,"","",null,4,"","","",null,null,62,59,null,{"$f":"VLOOKUP($B12,'Finish Times'!$A$10:$G$40,6,FALSE)","v":0}]
["Johnson","Felicite",null,null,"S-2 27 IB",13,{"$f":"188+6","v":194},209,{"$f":"IF(T13 = \"s\",1000/(900+G13),\"\")","v":""},{"$f":"IF(T13 =\"n\",1000/(900+H13),\"\")","v":0.90171325518485124},{"$f":"IF(AK13>0,VLOOKUP($B13,'Finish Times'!$A$10:$G$40,6,FALSE),\" \")","v":41},{"$f":"IF(AK13>0,VLOOKUP($B13,'Finish Times'!$A$10:$G$40,7,FALSE),\" \")","v":19},36.31666666666667,32.747219717463182,1,0,null,209,null,"n",32.747219717463182,1,null,null,0.90171325518485113,32.747219717463182,null,5,1,0,null,null,null,59,12,null,{"$f":"VLOOKUP($B13,'Finish Times'!$A$10:$G$40,6,FALSE)","v":41}]
["Conover","Willaway",null,null,"Columbia 29",222,{"$f":"225+6","v":231},{"$f":"IFERROR(G14+15,\"\")","v":246},{"$f":"IF(T14 = \"s\",1000/(900+G14),\"\")","v":""},{"$f":"IF(T14 =\"n\",1000/(900+H14),\"\")","v":0.87260034904013961},{"$f":"IF(AK14>0,VLOOKUP($B14,'Finish Times'!$A$10:$G$40,6,FALSE),\" \")","v":" "},{"$f":"IF(AK14>0,VLOOKUP($B14,'Finish Times'!$A$10:$G$40,7,FALSE),\" \")","v":" "}," ",{"$f":"IFERROR(U14,\" \")","v":""},{"$f":"IFERROR(V14,\" \")","v":""},{"$f":"IFERROR(N14-$Y$2,\"\")","v":""},"",{"$f":"IFERROR(ROUND((1000/Y14)-900,0),\"\")","v":""},null,"n","","",null,null,"","",null,6,"","","",null,null,56,58,null,{"$f":"VLOOKUP($B14,'Finish Times'!$A$10:$G$40,6,FALSE)","v":0}]
["Gillespie","ie ie bang bang",null,null,"Hunter 365",null,{"$f":"139+3+3+3","v":148},163,"",0.94073377234242705,{"$f":"IF(AK15>0,VLOOKUP($B15,'Finish Times'!$A$10:$G$40,6,FALSE),\" \")","v":" "},{"$f":"IF(AK15>0,VLOOKUP($B15,'Finish Times'!$A$10:$G$40,7,FALSE),\" \")","v":" "}," ","","","","","",null,"n","","",null,null,"","",null,7,"","","",null,null,64,47,null,{"$f":"VLOOKUP($B15,'Finish Times'!$A$10:$G$40,6,FALSE)","v":0}]
["Short","Te Aroha",null,null,"Beneteau 285",285,199,{"$f":"IFERROR(G16+15,\"\")","v":214},{"$f":"IF(T16 = \"s\",1000/(900+G16),\"\")","v":""},{"$f":"IF(T16 =\"n\",1000/(900+H16),\"\")","v":0.89766606822262118},{"$f":"IF(AK16>0,VLOOKUP($B16,'Finish Times'!$A$10:$G$40,6,FALSE),\" \")","v":" "},{"$f":"IF(AK16>0,VLOOKUP($B16,'Finish Times'!$A$10:$G$40,7,FALSE),\" \")","v":" "},{"$f":"IF(AK16>0,(K16+L16/60)-A$3,\" \")","v":" "},{"$f":"IFERROR(U16,\" \")","v":""},{"$f":"IFERROR(V16,\" \")","v":""},{"$f":"IFERROR(N16-$Y$2,\"\")","v":""},"",{"$f":"IFERROR(ROUND((1000/Y16)-900,0),\"\")","v":""},null,"n","","",null,null,"","",null,8,"","","",null,null,null,null,null,{"$f":"VLOOKUP($B16,'Finish Times'!$A$10:$G$40,6,FALSE)","v":0}]
[null,null,null,null,null,null,null,null,null,null,null,null,null," ","","","","",null,"n"," ","",null,null,"","",null,9,"","","",null,null,null,null,null,{"$f":"VLOOKUP($B17,'Finish Times'!$A$10:$G$40,6,FALSE)","v":{"$error":"#N/A"}}]
[null,null,null,null,null,null,null,null,null,null,null,null,null," ","","","","",null,"n"," ","",null,null,"","",null,10,"","","",null,null,null,null,null,{"$f":"VLOOKUP($B18,'Finish Times'!$A$10:$G$40,6,FALSE)","v":{"$error":"#N/A"}}]
[null,null,null,null,null,null,null,null,null,null,null,null,null," ","","","","",null,"n"," ","",null,null,"","",null,11,"","","",null,null,null,null,null,{"$f":"VLOOKUP($B19,'Finish Times'!$A$10:$G$40,6,FALSE)","v":{"$error":"#N/A"}}]
[null,null,null,null,null,null,null,null,null,null,null,null,null," ","","","","",null,"n"," ","",null,null,"","",null,12,"","","",null,null,null,null,null,{"$f":"VLOOKUP($B20,'Finish Times'!$A$10:$G$40,6,FALSE)","v":{"$error":"#N/A"}}]
[null,null,null,null,null,null,null,null,null,null,null,null,null," ","","","","",null,"n"," ","",null,null,"","",null,13,"","","",null,null,null,null,null,{"$f":"VLOOKUP($B21,'Finish Times'!$A$10:$G$40,6,FALSE)","v":{"$error":"#N/A"}}]
[null,null,null,null,null,null,null,null,null,null,null,null,null," ","","","","",null,"n"," ","",null,null,"","",null,14,"","","",null,null,null,null,null,{"$f":"VLOOKUP($B22,'Finish Times'!$A$10:$G$40,6,FALSE)","v":{"$error":"#N/A"}}]
[null,null,null,null,null,null,null,null,null,null,null,null,null," ","","","","",null,"n"," ","",null,null,"","",null,15,"","","",null,null,null,null,null,{"$f":"VLOOKUP($B23,'Finish Times'!$A$10:$G$40,6,FALSE)","v":{"$error":"#N/A"}}]
["Race Start Time ",null,null,null,null,null,null,null,null,null,null,null,null,"FLEET FOUR",null,null,"",null,null,null,null,null,null,null,null,null,null,null,null,null,""]
["(In case race timer has issues, use clock time as backup and do the math)",null,null,null,null,null,null,null,null,null,null,null,null,null,null,null,0,null,null,null,null,null,null,null,null,null,null,null,null,null,0]
["(1) Convert seconds to decimal equivalent - see reference sheet",null,null,null,null,null,null,null,null,null,null,null,null,null,null,null,0,null,null,null,null,null,null,null,null,null,null,null,null,null,0]
["(2) Multiply time in minutes by circled TCF",null,null,null,null,null,null,null,null,null,null,null,null,null,null,null,0,null,null,null,null,null,null,null,null,null,null,null,null,null,0]
[null,null,null,null,null,null,null,null,null,null,null,null,null,null,null,null,0,null,null,null,null,null,null,null,null,null,null,null,null,null,0]
["FLEET FOUR",null,null,null,null,null,null,null,null,null,null,null,"RACE #"]

{"sheet":"Fleet 1 and 2 Combo","index":6,"n_rows":33,"n_cols":37,"rows_kept":33,"cut":false,"hidden":false,"merged":[[4,0,4,14],[5,0,5,14],[6,0,6,14],[6,19,6,21],[7,6,7,7],[7,8,7,9],[7,10,7,11]]}
["Control Z to run macro",null,null,null,null,null,null,null,null,null,null,null,null,null,null,null,null,null,null,null,null,null,null,null,"Winner"]
[null,null,null,null,null,null,null,null,null,null,null,null,null,null,null,null,null,null,null,null,null,null,null,null,{"$f":"MIN(N10:N27)","v":51.978193146417446}]
[0,"<-----Minutes after first start"]
[]
["Blackwater Yacht Racing Association - Race Results Fleets I & 2",null,null,null,null,null,null,null,null,null,null,null,null,null,null,null,null,null,null,null,null,null,null,null,null,"Test"]
["Date: Oct. 8, 2016      2016 Fall Series Race 6  RC: Short and Conover",null,null,null,null,null,null,null,null,null,null,null,null,null,null,null,null,null,null,null,null,null,null,null,"new tcf =","should ="]
["Windward Leeward Race in Bull Run with 13 to 23 mph wind",null,null,null,null,null,null,null,null,null,null,null,null,null,null,"Time","Time","Approx",null,"Finish Calculations",null,null,null,null,"Winner Adj Time","Winner Adj Time",null,null,"# of Boats"]
[null,null,null,null,null,null,"Handicap",null,"TCF",null,"Finish Time",null,"Calc(1)","Adj.(2)",null,"Behind","Behind","H'cap",null,"S for Spin",null,null,null,null,"/observed",null,null,null,{"$f":"MAX(AC10:AC27)","v":7}]
["Skipper","Boat Name","Initials","Guest?","Boat","Sail #","Spin*","Non-Spin*","Spin*","Non-Spin*","Min.","Sec.","Min.dd","Time","Place","Winner","Boat Ahead","to win",null,"N for non"]
["Cliborne","Bandit",null,null,"J/24",2792,170,{"$f":"IFERROR(G10+15,\"\")","v":185},{"$f":"IF(T10 = \"s\",1000/(900+G10),\"\")","v":0.93457943925233644},{"$f":"IF(T10 =\"n\",1000/(900+H10),\"\")","v":""},{"$f":"IF($AK10>0,(VLOOKUP($B10,'Finish Times'!$A$10:$G$40,6,FALSE)),\"\")","v":57},{"$f":"IF($AK10>0,(VLOOKUP($B10,'Finish Times'!$A$10:$G$40,7,FALSE)),\"\")","v":9},{"$f":"IF(AK10>0,(K10+L10/60)-A$3,\" \")","v":57.15},{"$f":"IFERROR(U10,\" \")","v":53.411214953271028},2,{"$f":"IFERROR(N10-$Y$2,\"\")","v":1.4330218068535814},1.4330218068535814,{"$f":"IFERROR(ROUND((1000/Y10)-900,0),\"\")","v":199},null,"s",{"$f":"IFERROR(IF(M10>0,IF(T10=\"s\",M10*I10,0)+IF(T10=\"n\",M10*J10,0),\" \"),\"\")","v":53.411214953271028},{"$f":"IFERROR(RANK(N10,$N$10:$N$27,1),\"\")","v":2},null,null,{"$f":"IFERROR($Y$2/M10,\"\")","v":0.90950469197580841},{"$f":"IFERROR(M10*Y10,\"\")","v":51.978193146417446},null,1,2,1.4330218068535814,1.4330218068535814,null,null,55,39,null,{"$f":"(VLOOKUP($B10,'Finish Times'!$A$10:$G$40,6,FALSE))","v":57}]
["Forqurean","Dark Horse",null,null,"J/24",1024,170,185,0.93457943925233644,{"$f":"IF(T11 =\"n\",1000/(900+H11),\"\")","v":""},{"$f":"IF($AK11>0,(VLOOKUP($B11,'Finish Times'!$A$10:$G$40,6,FALSE)),\"\")","v":59},{"$f":"IF($AK11>0,(VLOOKUP($B11,'Finish Times'!$A$10:$G$40,7,FALSE)),\"\")","v":11},{"$f":"IF(AK11>0,(K11+L11/60)-A$3,\" \")","v":59.18333333333333},55.311526479750775,3,3.3333333333333286,1.9003115264797472,239,null,"s",{"$f":"IFERROR(IF(M11>0,IF(T11=\"s\",M11*I11,0)+IF(T11=\"n\",M11*J11,0),\" \"),\"\")","v":55.311526479750775},3,null,null,0.87825727648128615,{"$f":"IFERROR(M11*Y11,\"\")","v":51.978193146417446},null,2,3,3.3333333333333286,1.9003115264797472,null,null,56,22,null,{"$f":"(VLOOKUP($B11,'Finish Times'!$A$10:$G$40,6,FALSE))","v":59}]
["Maloney","Boogie Board",null,null,"J/24",1742,170,185,0.93457943925233644,{"$f":"IF(T12 =\"n\",1000/(900+H12),\"\")","v":""},{"$f":"IF($AK12>0,(VLOOKUP($B12,'Finish Times'!$A$10:$G$40,6,FALSE)),\"\")","v":""},{"$f":"IF($AK12>0,(VLOOKUP($B12,'Finish Times'!$A$10:$G$40,7,FALSE)),\"\")","v":""}," ","","","","","",null,"s","","",null,null,"","",null,3,"","","",null,null,54,9,null,{"$f":"(VLOOKUP($B12,'Finish Times'!$A$10:$G$40,6,FALSE))","v":0}]
["Phillip","Rascal",null,null,"J/24",3511,170,185,0.93457943925233644,{"$f":"IF(T13 =\"n\",1000/(900+H13),\"\")","v":""},{"$f":"IF($AK13>0,(VLOOKUP($B13,'Finish Times'!$A$10:$G$40,6,FALSE)),\"\")","v":55},{"$f":"IF($AK13>0,(VLOOKUP($B13,'Finish Times'!$A$10:$G$40,7,FALSE)),\"\")","v":37},55.616666666666667,51.978193146417446,1,0,null,170,null,"s",51.978193146417446,1,null,null,0.93457943925233644,51.978193146417446,null,4,1,0,null,null,null,62,59,null,{"$f":"(VLOOKUP($B13,'Finish Times'!$A$10:$G$40,6,FALSE))","v":55}]
["Sampson","Time Warp",null,null,"J/24",1248,170,185,0.93457943925233644,{"$f":"IF(T14 =\"n\",1000/(900+H14),\"\")","v":""},{"$f":"IF($AK14>0,(VLOOKUP($B14,'Finish Times'!$A$10:$G$40,6,FALSE)),\"\")","v":""},{"$f":"IF($AK14>0,(VLOOKUP($B14,'Finish Times'!$A$10:$G$40,7,FALSE)),\"\")","v":""}," ","","","","","",null,"s","","",null,null,"","",null,5,"","","",null,null,59,12,null,{"$f":"(VLOOKUP($B14,'Finish Times'!$A$10:$G$40,6,FALSE))","v":0}]
["Firing","Fenix",null,null,"San Juan 24",556,218,233,0.89445438282647582,"",{"$f":"IF($AK15>0,(VLOOKUP($B15,'Finish Times'!$A$10:$G$40,6,FALSE)),\"\")","v":""},{"$f":"IF($AK15>0,(VLOOKUP($B15,'Finish Times'!$A$10:$G$40,7,FALSE)),\"\")","v":""}," ","","","","","",null,"s","","",null,null,"","",null,6,"","","",null,null,56,58,null,{"$f":"(VLOOKUP($B15,'Finish Times'!$A$10:$G$40,6,FALSE))","v":0}]
["Schiable","Catch 22",null,null,"J22",826,177,192,0.92850510677808729,"",{"$f":"IF($AK16>0,(VLOOKUP($B16,'Finish Times'!$A$10:$G$40,6,FALSE)),\"\")","v":80},{"$f":"IF($AK16>0,(VLOOKUP($B16,'Finish Times'!$A$10:$G$40,7,FALSE)),\"\")","v":30},80.5,74.744661095636033,7,22.766467949218587,13.37969331590552,649,null,"s",74.744661095636033,7,null,null,0.64569184032816707,51.978193146417446,null,7,7,22.766467949218587,13.37969331590552,null,null,64,47,null,{"$f":"(VLOOKUP($B16,'Finish Times'!$A$10:$G$40,6,FALSE))","v":80}]
["Gietl","UDO",null,null,"VX One",119,107,122,0.99304865938430986,"",{"$f":"IF($AK17>0,(VLOOKUP($B17,'Finish Times'!$A$10:$G$40,6,FALSE)),\"\")","v":""},{"$f":"IF($AK17>0,(VLOOKUP($B17,'Finish Times'!$A$10:$G$40,7,FALSE)),\"\")","v":""}," ","","","","","",null,"s","","",null,null,"","",null,9,"","","",null,null,null,null,null,{"$f":"(VLOOKUP($B17,'Finish Times'!$A$10:$G$40,6,FALSE))","v":0}]
["Theis","Gotcha",null,null,"S-2 6.7",75,208,{"$f":"IFERROR(G18+15,\"\")","v":223},{"$f":"IF(T18 = \"s\",1000/(900+G18),\"\")","v":0.90252707581227432},{"$f":"IF(T18 =\"n\",1000/(900+H18),\"\")","v":""},{"$f":"IF($AK18>0,(VLOOKUP($B18,'Finish Times'!$A$10:$G$40,6,FALSE)),\"\")","v":""},{"$f":"IF($AK18>0,(VLOOKUP($B18,'Finish Times'!$A$10:$G$40,7,FALSE)),\"\")","v":""},{"$f":"IF(AK18>0,(K18+L18/60)-A$3,\" \")","v":" "},{"$f":"IFERROR(U18,\" \")","v":""},{"$f":"IFERROR(V18,\" \")","v":""},{"$f":"IFERROR(N18-$Y$2,\"\")","v":""},"",{"$f":"IFERROR(ROUND((1000/Y18)-900,0),\"\")","v":""},null,"s","","",null,null,"","",null,10,"","","",null,null,null,null,null,{"$f":"(VLOOKUP($B18,'Finish Times'!$A$10:$G$40,6,FALSE))","v":0}]
["Hull","Fools Game",null,null,"Pearson 26",1183,216,231,0.89605734767025091,{"$f":"IF(T19 =\"n\",1000/(900+H19),\"\")","v":""},{"$f":"IF($AK19>0,(VLOOKUP($B19,'Finish Times'!$A$10:$G$40,6,FALSE)),\"\")","v":""},{"$f":"IF($AK19>0,(VLOOKUP($B19,'Finish Times'!$A$10:$G$40,7,FALSE)),\"\")","v":""},{"$f":"IF(AK19>0,(K19+L19/60)-A$3,\" \")","v":" "},{"$f":"IFERROR(U19,\" \")","v":""},{"$f":"IFERROR(V19,\" \")","v":""},{"$f":"IFERROR(N19-$Y$2,\"\")","v":""},"","",null,"s","","",null,null,"","",null,11,"","","",null,null,null,null,null,{"$f":"(VLOOKUP($B19,'Finish Times'!$A$10:$G$40,6,FALSE))","v":0}]
["Evans","Severence",null,null,"C&C 25",14755,218,233,0.89445438282647582,"",{"$f":"IF($AK20>0,(VLOOKUP($B20,'Finish Times'!$A$10:$G$40,6,FALSE)),\"\")","v":""},{"$f":"IF($AK20>0,(VLOOKUP($B20,'Finish Times'!$A$10:$G$40,7,FALSE)),\"\")","v":""}," ","","","","","",null,"s","","",null,null,"","",null,12,"","","",null,null,null,null,null,{"$f":"(VLOOKUP($B20,'Finish Times'!$A$10:$G$40,6,FALSE))","v":0}]
["Witten","Majical",null,null,"Cal 25",1687,224,239,0.88967971530249113,"",{"$f":"IF($AK21>0,(VLOOKUP($B21,'Finish Times'!$A$10:$G$40,6,FALSE)),\"\")","v":""},{"$f":"IF($AK21>0,(VLOOKUP($B21,'Finish Times'!$A$10:$G$40,7,FALSE)),\"\")","v":""}," ","","","","","",null,"s","","",null,null,"","",null,13,"","","",null,null,null,null,null,{"$f":"(VLOOKUP($B21,'Finish Times'!$A$10:$G$40,6,FALSE))","v":0}]
["Breckenridge","StressLess",null,null,"Harbor 20",212,220,235,"",0.88105726872246692,{"$f":"IF($AK22>0,(VLOOKUP($B22,'Finish Times'!$A$10:$G$40,6,FALSE)),\"\")","v":67},{"$f":"IF($AK22>0,(VLOOKUP($B22,'Finish Times'!$A$10:$G$40,7,FALSE)),\"\")","v":45},67.75,59.691629955947135,5,7.7134368095296892,4.405286343612147E-2,403,null,"n",59.691629955947135,5,null,null,0.76720580289915052,null,null,14,5,7.7134368095296892,4.405286343612147E-2,null,null,null,null,null,{"$f":"(VLOOKUP($B22,'Finish Times'!$A$10:$G$40,6,FALSE))","v":67}]
["Miekina","Synergy",null,null,"Harbor 20",215,220,235,"",0.88105726872246692,{"$f":"IF($AK23>0,(VLOOKUP($B23,'Finish Times'!$A$10:$G$40,6,FALSE)),\"\")","v":""},{"$f":"IF($AK23>0,(VLOOKUP($B23,'Finish Times'!$A$10:$G$40,7,FALSE)),\"\")","v":""}," ","","","","","",null,"n","","",null,null,"",null,null,15,"","","",null,null,null,null,null,{"$f":"(VLOOKUP($B23,'Finish Times'!$A$10:$G$40,6,FALSE))","v":0}]
["Hemler","Stoic",null,null,"Harbor 20",330,220,235,"",0.88105726872246692,{"$f":"IF($AK24>0,(VLOOKUP($B24,'Finish Times'!$A$10:$G$40,6,FALSE)),\"\")","v":67},{"$f":"IF($AK24>0,(VLOOKUP($B24,'Finish Times'!$A$10:$G$40,7,FALSE)),\"\")","v":42},67.7,59.647577092511014,4,7.6693839460935678,4.3360506127602392,402,null,"n",59.647577092511014,4,null,null,0.76777242461473327,null,null,null,4,7.6693839460935678,4.3360506127602392,null,null,null,null,null,{"$f":"(VLOOKUP($B24,'Finish Times'!$A$10:$G$40,6,FALSE))","v":67}]
["Tunnell","Courageous",null,null,"Harbor 20",278,220,235,"",0.88105726872246692,{"$f":"IF($AK25>0,(VLOOKUP($B25,'Finish Times'!$A$10:$G$40,6,FALSE)),\"\")","v":""},{"$f":"IF($AK25>0,(VLOOKUP($B25,'Finish Times'!$A$10:$G$40,7,FALSE)),\"\")","v":""}," ","","","",1.6733378237833776,"",null,"n","","",null,null,"",null,null,null,6,9.3867746333130668,1.6733378237833776,null,null,null,null,null,{"$f":"(VLOOKUP($B25,'Finish Times'!$A$10:$G$40,6,FALSE))","v":0}]
["Whitt","Destiny",null,null,"Alerion 20",6,223,{"$f":"IFERROR(G26+15,\"\")","v":238},{"$f":"IF(T26 = \"s\",1000/(900+G26),\"\")","v":""},{"$f":"IF(T26 =\"n\",1000/(900+H26),\"\")","v":0.87873462214411246},{"$f":"IF($AK26>0,(VLOOKUP($B26,'Finish Times'!$A$10:$G$40,6,FALSE)),\"\")","v":69},{"$f":"IF($AK26>0,(VLOOKUP($B26,'Finish Times'!$A$10:$G$40,7,FALSE)),\"\")","v":50},{"$f":"IF(AK26>0,(K26+L26/60)-A$3,\" \")","v":69.833333333333329},{"$f":"IFERROR(U26,\" \")","v":61.364967779730513},{"$f":"IFERROR(V26,\" \")","v":6},{"$f":"IFERROR(N26-$Y$2,\"\")","v":9.3867746333130668},"",{"$f":"IFERROR(ROUND((1000/Y26)-900,0),\"\")","v":444},null,"n",61.364967779730513,6,null,null,0.74431780161934291,51.978193146417446,null,null,"","","",null,null,null,null,null,{"$f":"(VLOOKUP($B26,'Finish Times'!$A$10:$G$40,6,FALSE))","v":69}]
[null,null,null,null,null,null,null,null,null,null,null,null,{"$f":"IF(K27>0,(K27+L27/60)-A$3,\" \")","v":" "},"","","","","",null,"n","","",null,null,"","",null,null,"","","",null,null,null,null,null,{"$f":"(VLOOKUP($B27,'Finish Times'!$A$10:$G$40,6,FALSE))","v":{"$error":"#N/A"}}]
["Race Start Time ",null,null,null,null,null,null,null,null,null,null,null,null,"FLEET ONE & TWO",null,null,"",null,null,null,null,null,null,null,null,null,null,null,null,null,""]
["(In case race timer has issues, use clock time as backup and do the math)"]
["(1) Convert seconds to decimal equivalent - see reference sheet"]
["(2) Multiply time in minutes by circled TCF"]
[]
["FLEET ONE",null,null,null,null,null,null,null,null,null,null,null,"RACE #"]

{"sheet":"Fleet 3 and 4 Combo","index":7,"n_rows":29,"n_cols":37,"rows_kept":29,"cut":false,"hidden":false,"merged":[[4,0,4,14],[5,0,5,14],[6,0,6,14],[6,19,6,21],[7,6,7,7],[7,8,7,9],[7,10,7,11]]}
[null,null,null,null,null,null,null,null,null,null,null,null,null,null,null,null,null,null,null,null,null,null,null,null,"Winner"]
[null,null,null,null,null,null,null,null,null,null,null,null,null,null,null,null,null,null,null,null,null,null,null,null,{"$f":"MIN(N10:N23)","v":32.747219717463182}]
[5,"<-----Minutes after first start"]
[]
["Blackwater Yacht Racing Association - Race Results Fleets 3 & 4",null,null,null,null,null,null,null,null,null,null,null,null,null,null,null,null,null,null,null,null,null,null,null,null,"Test"]
["Date: October 6, 2016     2016 Fall Series Race 6    RC: Short and Conover",null,null,null,null,null,null,null,null,null,null,null,null,null,null,null,null,null,null,null,null,null,null,null,"new tcf =","should ="]
[null,null,null,null,null,null,null,null,null,null,null,null,null,null,null,"Time","Time","Approx",null,"Finish Calculations",null,null,null,null,"Winner Adj Time","Winner Adj Time",null,null,"# of Boats"]
[null,null,null,null,null,null,"Handicap",null,"TCF",null,"Finish Time",null,"Calc(1)","Adj.(2)",null,"Behind","Behind","H'cap",null,"S for Spin",null,null,null,null,"/observed",null,null,null,{"$f":"MAX(AC10:AC23)","v":6}]
["Skipper","Boat Name","Initials","Guest?","Boat","Sail #","Spin*","Non-Spin*","Spin*","Non-Spin*","Min.","Sec.","Min.dd","Time","Place","Winner","Boat Ahead","to win",null,"N for non"]
["Perdue","Miss Virginia",null,null,"Hunter 23.5",1309,244,{"$f":"IFERROR(G10+15,\"\")","v":259},{"$f":"IF(T10 = \"s\",1000/(900+G10),\"\")","v":0.87412587412587417},{"$f":"IF(T10 =\"n\",1000/(900+H10),\"\")","v":""},{"$f":"IF($AK10>0,(VLOOKUP($B10,'Finish Times'!$A$10:$G$40,6,FALSE)),\"\")","v":50},{"$f":"IF($AK10>0,(VLOOKUP($B10,'Finish Times'!$A$10:$G$40,7,FALSE)),\"\")","v":23},{"$f":"IF(AK10>0,(K10+L10/60)-A$3,\" \")","v":45.383333333333333},{"$f":"IFERROR(U10,\" \")","v":39.670745920745922},6,{"$f":"IFERROR(N10-$Y$2,\"\")","v":6.9235262032827407},1.4913980946589689,{"$f":"IFERROR(ROUND((1000/Y10)-900,0),\"\")","v":486},null,"s",{"$f":"IFERROR(IF(M10>0,IF(T10=\"s\",M10*I10,0)+IF(T10=\"n\",M10*J10,0),\" \"),\"\")","v":39.670745920745922},{"$f":"IFERROR(RANK(N10,$N$10:$N$23,1),\"\")","v":6},null,null,{"$f":"IFERROR($Y$2/M10,\"\")","v":0.7215692923421928},{"$f":"IFERROR(M10*Y10,\"\")","v":32.747219717463182},null,1,6,6.9235262032827407,1.4913980946589689,null,null,55,39,null,{"$f":"(VLOOKUP($B10,'Finish Times'!$A$10:$G$40,6,FALSE))","v":50}]
["Schraw","Second Wind",null,null,"Ericson 23",470,240,{"$f":"IFERROR(G11+15,\"\")","v":255},{"$f":"IF(T11 = \"s\",1000/(900+G11),\"\")","v":""},{"$f":"IF(T11 =\"n\",1000/(900+H11),\"\")","v":0.86580086580086579},{"$f":"IF($AK11>0,(VLOOKUP($B11,'Finish Times'!$A$10:$G$40,6,FALSE)),\"\")","v":46},{"$f":"IF($AK11>0,(VLOOKUP($B11,'Finish Times'!$A$10:$G$40,7,FALSE)),\"\")","v":4},41.06666666666667,35.555555555555557,4,2.8083358380923755,1.4875636223950863,354,null,"n",{"$f":"IFERROR(IF(M11>0,IF(T11=\"s\",M11*I11,0)+IF(T11=\"n\",M11*J11,0),\" \"),\"\")","v":35.555555555555557},4,null,null,0.79741606454861635,{"$f":"IFERROR(M11*Y11,\"\")","v":32.747219717463182},null,2,4,2.8083358380923755,1.4875636223950863,null,null,56,22,null,{"$f":"(VLOOKUP($B11,'Finish Times'!$A$10:$G$40,6,FALSE))","v":46}]
["Short","Fever",null,null,"Ericson 23",269,{"$f":"241+3","v":244},259,{"$f":"IF(T12 = \"s\",1000/(900+G12),\"\")","v":""},{"$f":"IF(T12 =\"n\",1000/(900+H12),\"\")","v":0.86281276962899056},{"$f":"IF($AK12>0,(VLOOKUP($B12,'Finish Times'!$A$10:$G$40,6,FALSE)),\"\")","v":""},{"$f":"IF($AK12>0,(VLOOKUP($B12,'Finish Times'!$A$10:$G$40,7,FALSE)),\"\")","v":""},{"$f":"IF(AK12>0,(K12+L12/60)-A$3,\" \")","v":" "},{"$f":"IFERROR(U12,\" \")","v":""},{"$f":"IFERROR(V12,\" \")","v":""},{"$f":"IFERROR(N12-$Y$2,\"\")","v":""},"",{"$f":"IFERROR(ROUND((1000/Y12)-900,0),\"\")","v":""},null,"n","","",null,null,"","",null,3,"","","",null,null,54,9,null,{"$f":"(VLOOKUP($B12,'Finish Times'!$A$10:$G$40,6,FALSE))","v":0}]
["Gobble","Always Something",null,null,"Hunter 23",1256,242,257,{"$f":"IF(T13 = \"s\",1000/(900+G13),\"\")","v":""},{"$f":"IF(T13 =\"n\",1000/(900+H13),\"\")","v":0.86430423509075194},{"$f":"IF($AK13>0,(VLOOKUP($B13,'Finish Times'!$A$10:$G$40,6,FALSE)),\"\")","v":44},{"$f":"IF($AK13>0,(VLOOKUP($B13,'Finish Times'!$A$10:$G$40,7,FALSE)),\"\")","v":25},39.416666666666664,34.067991933160471,3,1.3207722156972892,0.33453548502258457,304,null,"n",34.067991933160471,3,null,null,0.83079627190181438,32.747219717463182,null,4,3,1.3207722156972892,0.33453548502258457,null,null,62,59,null,{"$f":"(VLOOKUP($B13,'Finish Times'!$A$10:$G$40,6,FALSE))","v":44}]
["Witten","Majical",null,null,"Cal 25",1687,224,239,{"$f":"IF(T14 = \"s\",1000/(900+G14),\"\")","v":0.88967971530249113},{"$f":"IF(T14 =\"n\",1000/(900+H14),\"\")","v":""},{"$f":"IF($AK14>0,(VLOOKUP($B14,'Finish Times'!$A$10:$G$40,6,FALSE)),\"\")","v":""},{"$f":"IF($AK14>0,(VLOOKUP($B14,'Finish Times'!$A$10:$G$40,7,FALSE)),\"\")","v":""}," ","","","","","",null,"s","","",null,null,"","",null,5,"","","",null,null,59,12,null,{"$f":"(VLOOKUP($B14,'Finish Times'!$A$10:$G$40,6,FALSE))","v":0}]
["DeMestro","Little Wing",null,null,"Beneteau 29",485,168,{"$f":"IFERROR(G15+15,\"\")","v":183},{"$f":"IF(T15 = \"s\",1000/(900+G15),\"\")","v":""},{"$f":"IF(T15 =\"n\",1000/(900+H15),\"\")","v":0.92336103416435822},{"$f":"IF($AK15>0,(VLOOKUP($B15,'Finish Times'!$A$10:$G$40,6,FALSE)),\"\")","v":41},{"$f":"IF($AK15>0,(VLOOKUP($B15,'Finish Times'!$A$10:$G$40,7,FALSE)),\"\")","v":32},36.533333333333331,{"$f":"IFERROR(U15,\" \")","v":33.733456448137886},{"$f":"IFERROR(V15,\" \")","v":2},{"$f":"IFERROR(N15-$Y$2,\"\")","v":0.98623673067470463},0.98623673067470463,{"$f":"IFERROR(ROUND((1000/Y15)-900,0),\"\")","v":216},null,"n",33.733456448137886,2,null,null,0.89636550321523312,32.747219717463182,null,6,2,0.98623673067470463,0.98623673067470463,null,null,56,58,null,{"$f":"(VLOOKUP($B15,'Finish Times'!$A$10:$G$40,6,FALSE))","v":41}]
["Oginz","Alarming",null,null,"S-2 9.2",505,{"$f":"183+3+3","v":189},204,"",0.90579710144927539,{"$f":"IF($AK16>0,(VLOOKUP($B16,'Finish Times'!$A$10:$G$40,6,FALSE)),\"\")","v":47},{"$f":"IF($AK16>0,(VLOOKUP($B16,'Finish Times'!$A$10:$G$40,7,FALSE)),\"\")","v":9},42.15,38.179347826086953,5,5.4321281086237718,2.6237922705313963,387,null,"n",38.179347826086953,5,null,null,0.77692098973815382,32.747219717463182,null,7,5,5.4321281086237718,2.6237922705313963,null,null,64,47,null,{"$f":"(VLOOKUP($B16,'Finish Times'!$A$10:$G$40,6,FALSE))","v":47}]
["Gearhart","More Mischief",null,null,"Beneteau 285",144,{"$f":"193+6","v":199},214,"",0.89766606822262118,{"$f":"IF($AK17>0,(VLOOKUP($B17,'Finish Times'!$A$10:$G$40,6,FALSE)),\"\")","v":""},{"$f":"IF($AK17>0,(VLOOKUP($B17,'Finish Times'!$A$10:$G$40,7,FALSE)),\"\")","v":""},{"$f":"IF(AK17>0,(K17+L17/60)-A$3,\" \")","v":" "},"","","","","",null,"n","","",null,null,"","",null,9,"","","",null,null,null,null,null,{"$f":"(VLOOKUP($B17,'Finish Times'!$A$10:$G$40,6,FALSE))","v":0}]
["Johnson","Felicite",null,null,"S-2 27 IB",13,{"$f":"188+6","v":194},209,"",0.90171325518485124,{"$f":"IF($AK18>0,(VLOOKUP($B18,'Finish Times'!$A$10:$G$40,6,FALSE)),\"\")","v":41},{"$f":"IF($AK18>0,(VLOOKUP($B18,'Finish Times'!$A$10:$G$40,7,FALSE)),\"\")","v":19},36.31666666666667,32.747219717463182,1,0,null,209,null,"n",32.747219717463182,1,null,null,0.90171325518485113,32.747219717463182,null,10,1,0,null,null,null,null,null,null,{"$f":"(VLOOKUP($B18,'Finish Times'!$A$10:$G$40,6,FALSE))","v":41}]
["Conover","Willaway",null,null,"Columbia 29",222,{"$f":"225+6","v":231},246,"",0.87260034904013961,{"$f":"IF($AK19>0,(VLOOKUP($B19,'Finish Times'!$A$10:$G$40,6,FALSE)),\"\")","v":""},{"$f":"IF($AK19>0,(VLOOKUP($B19,'Finish Times'!$A$10:$G$40,7,FALSE)),\"\")","v":""}," ","","","","","",null,"n","","",null,null,"","",null,11,"","","",null,null,null,null,null,{"$f":"(VLOOKUP($B19,'Finish Times'!$A$10:$G$40,6,FALSE))","v":0}]
["Gillespie","ie ie bang bang",null,null,"Hunter 365",8,{"$f":"139+3+3+3","v":148},{"$f":"IFERROR(G20+15,\"\")","v":163},"",0.94073377234242705,{"$f":"IF($AK20>0,(VLOOKUP($B20,'Finish Times'!$A$10:$G$40,6,FALSE)),\"\")","v":""},{"$f":"IF($AK20>0,(VLOOKUP($B20,'Finish Times'!$A$10:$G$40,7,FALSE)),\"\")","v":""}," ","","","","","",null,"n","","",null,null,"","",null,12,"","","",null,null,null,null,null,{"$f":"(VLOOKUP($B20,'Finish Times'!$A$10:$G$40,6,FALSE))","v":0}]
["Short","Te Aroha",null,null,"Beneteau 285",285,199,{"$f":"IFERROR(G21+15,\"\")","v":214},{"$f":"IF(T21 = \"s\",1000/(900+G21),\"\")","v":""},{"$f":"IF(T21 =\"n\",1000/(900+H21),\"\")","v":0.89766606822262118},{"$f":"IF($AK21>0,(VLOOKUP($B21,'Finish Times'!$A$10:$G$40,6,FALSE)),\"\")","v":""},{"$f":"IF($AK21>0,(VLOOKUP($B21,'Finish Times'!$A$10:$G$40,7,FALSE)),\"\")","v":""},{"$f":"IF(AK21>0,(K21+L21/60)-A$3,\" \")","v":" "},{"$f":"IFERROR(U21,\" \")","v":""},{"$f":"IFERROR(V21,\" \")","v":""},{"$f":"IFERROR(N21-$Y$2,\"\")","v":""},"",{"$f":"IFERROR(ROUND((1000/Y21)-900,0),\"\")","v":""},null,"n","","",null,null,"","",null,13,"","","",null,null,null,null,null,{"$f":"(VLOOKUP($B21,'Finish Times'!$A$10:$G$40,6,FALSE))","v":0}]
["Gillespie","Kiing Bill",null,null,"San Juan 21",153,251,{"$f":"IFERROR(G22+15,\"\")","v":266},null,0.85763293310463118,null,null,null," ","","","","",null,"n"," ","",null,null,"","",null,14,"","","",null,null,null,null,null,{"$f":"(VLOOKUP($B22,'Finish Times'!$A$10:$G$40,6,FALSE))","v":{"$error":"#N/A"}}]
[null,null,null,null,null,null,null,null,null,null,null,null,null," ","","","","",null,"n"," ","",null,null,"","",null,15,"","","",null,null,null,null,null,{"$f":"(VLOOKUP($B23,'Finish Times'!$A$10:$G$40,6,FALSE))","v":{"$error":"#N/A"}}]
["Race Start Time ",null,null,null,null,null,null,null,null,null,null,null,null,"FLEET THREE & FOUR",null,null,"",null,null,null,null,null,null,null,null,null,null,16,null,null,"",null,null,null,null,null,{"$f":"(VLOOKUP($B24,'Finish Times'!$A$10:$G$40,6,FALSE))","v":{"$error":"#N/A"}}]
["(In case race timer has issues, use clock time as backup and do the math)",null,null,null,null,null,null,null,null,null,null,null,null,null,null,null,0,null,null,null,null,null,null,null,null,null,null,17,null,null,0,null,null,null,null,null,{"$f":"(VLOOKUP($B25,'Finish Times'!$A$10:$G$40,6,FALSE))","v":{"$error":"#N/A"}}]
["(1) Convert seconds to decimal equivalent - see reference sheet",null,null,null,null,null,null,null,null,null,null,null,null,null,null,null,0,null,null,null,null,null,null,null,null,null,null,18,null,null,0,null,null,null,null,null,{"$f":"(VLOOKUP($B26,'Finish Times'!$A$10:$G$40,6,FALSE))","v":{"$error":"#N/A"}}]
["(2) Multiply time in minutes by circled TCF",null,null,null,null,null,null,null,null,null,null,null,null,null,null,null,0,null,null,null,null,null,null,null,null,null,null,19,null,null,0,null,null,null,null,null,{"$f":"(VLOOKUP($B27,'Finish Times'!$A$10:$G$40,6,FALSE))","v":{"$error":"#N/A"}}]
[null,null,null,null,null,null,null,null,null,null,null,null,null,null,null,null,0,null,null,null,null,null,null,null,null,null,null,null,null,null,0]
["FLEET THREE",null,null,null,null,null,null,null,null,null,null,null,"RACE #"]